BEGIN:VCALENDAR
VERSION:2.0
PRODID:spatie/icalendar-generator
DESCRIPTION:Events from Oficina de Transformación Comunitaria y Transició
 n Energética
X-WR-CALDESC:Events from Oficina de Transformación Comunitaria y Transici
 ón Energética
REFRESH-INTERVAL;VALUE=DURATION:PT1440M
X-PUBLISHED-TTL:PT1440M
BEGIN:VTIMEZONE
TZID:Atlantic/Canary
BEGIN:STANDARD
DTSTART:20241027T020000Z
TZOFFSETFROM:+0100
TZOFFSETTO:+0000
END:STANDARD
BEGIN:DAYLIGHT
DTSTART:20250330T010000Z
TZOFFSETFROM:+0000
TZOFFSETTO:+0100
END:DAYLIGHT
BEGIN:STANDARD
DTSTART:20251026T020000Z
TZOFFSETFROM:+0100
TZOFFSETTO:+0000
END:STANDARD
END:VTIMEZONE
BEGIN:VTIMEZONE
TZID:UTC
BEGIN:STANDARD
DTSTART:20250726T083510Z
TZOFFSETFROM:+0000
TZOFFSETTO:+0000
END:STANDARD
END:VTIMEZONE
BEGIN:VEVENT
UID:27-25
DTSTAMP:20260422T083510Z
SUMMARY:Oficina Itinerante La Aldea de San Nicolás
LOCATION:
ORGANIZER;CN=Alfredo González:MAILTO:agonzalez@itccanarias.org
DTSTART;TZID=Atlantic/Canary:20250708T093000
DTEND;TZID=Atlantic/Canary:20250708T123000
X-ALT-DESC;FMTTYPE=TEXT/HTML:Fecha: 08/07/2025 Hora: 09.30 - 12.30h Lugar: 
 Kiosco de la plaza de la Alameda
CATEGORIES:General
URL;VALUE=URI:https://www.otc.energiagrancanaria.com/mc-events/oficina-itin
 erante-la-aldea-de-san-nicolas/?mc_id=27
END:VEVENT
END:VCALENDAR